BEGIN:VCALENDAR
VERSION:2.0
PRODID:gruene-winterbach.de
METHOD:PUBLISH
BEGIN:VTIMEZONE
TZID:Europe/Berlin
X-LIC-LOCATION:Europe/Berlin
BEGIN:DAYLIGHT
TZOFFSETFROM:+0100
TZOFFSETTO:+0200
TZNAME:CEST
DTSTART:19700329T020000
RRULE:FREQ=YEARLY;INTERVAL=1;BYDAY=-1SU;BYMONTH=3
END:DAYLIGHT
BEGIN:STANDARD
TZOFFSETFROM:+0200
TZOFFSETTO:+0100
TZNAME:CET
DTSTART:19701025T030000
RRULE:FREQ=YEARLY;INTERVAL=1;BYDAY=-1SU;BYMONTH=10
END:STANDARD
END:VTIMEZONE
BEGIN:VEVENT
UID:d208a7ce6021f25ea172dee4693fb1fc@gruene-winterbach.de
URL;VALUE=URI:https://gruene-winterbach.de/termine/stand-auf-dem-wochenma
 rkt-winterbach-2/
LOCATION:Wochenmarkt Winterbach, Markthof, 73650 Winterbach
SUMMARY:Stand auf dem Wochenmarkt Winterbach
DESCRIPTION;ALTREP="data:text/html,%0A%3Cp%20id%3D%22block-dd3fae6c-bc78-
 4d01-82da-321bf8f44da0%22%3EKommen%20Sie%20w%C3%A4hrend%20des%20Wochenmar
 kts%20vorbei%20auf%20den%20Marktplatz%20in%20Winterbach%20und%20lernen%20
 sie%20die%20%3Cstrong%3EKandididatinnen%20und%20Kandidaten%20f%C3%BCr%20d
 ie%20%3Ca%20href%3D%22https%3A%2F%2Fgruene-winterbach.de%2Fkommunalwahl-2
 024-in-winterbach%2F%22%3EGemeinderatswahl%20am%209.%20Juni%3C%2Fa%3E%3C%
 2Fstrong%3E%20kennen.%20Wir%20freuen%20uns%2C%20mit%20Ihnen%20in%20den%20
 Austausch%20zu%20kommen.%20Sprechen%20Sie%20uns%20gerne%20an%2C%20bringen
 %20Sie%20Fragen%20mit%20oder%20halten%20einfach%20ein%20Schw%C3%A4tzle%20
 mit%20uns.%20%3Cstrong%3EWir%20freuen%20uns%20auf%20Sie%21%3C%2Fstrong%3E
 %3C%2Fp%3E%0A":Kommen Sie während des Wochenmarkts vorbei auf den Marktp
 latz in Winterbach und lernen sie die Kandididatinnen und Kandidaten für
  die Gemeinderatswahl am 9. Juni kennen. Wir freuen uns\, mit Ihnen in de
 n Austausch zu kommen. Sprechen Sie uns gerne an\, bringen Sie Fragen mit
  oder halten einfach ein Schwätzle mit uns. Wir freuen uns auf Sie!
CLASS:PUBLIC
DTSTART;TZID=Europe/Berlin:20240524T130000
DTEND;TZID=Europe/Berlin:20240524T170000
DTSTAMP:20260421T115048
END:VEVENT
END:VCALENDAR