BEGIN:VCALENDAR
VERSION:2.0
PRODID:gruene-winterbach.de
METHOD:PUBLISH
BEGIN:VTIMEZONE
TZID:Europe/Berlin
X-LIC-LOCATION:Europe/Berlin
BEGIN:DAYLIGHT
TZOFFSETFROM:+0100
TZOFFSETTO:+0200
TZNAME:CEST
DTSTART:19700329T020000
RRULE:FREQ=YEARLY;INTERVAL=1;BYDAY=-1SU;BYMONTH=3
END:DAYLIGHT
BEGIN:STANDARD
TZOFFSETFROM:+0200
TZOFFSETTO:+0100
TZNAME:CET
DTSTART:19701025T030000
RRULE:FREQ=YEARLY;INTERVAL=1;BYDAY=-1SU;BYMONTH=10
END:STANDARD
END:VTIMEZONE
BEGIN:VEVENT
UID:72e896d9e44ccac344bdab18c779ee73@gruene-winterbach.de
URL;VALUE=URI:https://gruene-winterbach.de/termine/sitzung-des-ortsverban
 ds-winterbach-3/
LOCATION:Bürgerhaus Kelter, Ritterstraße 3, Winterbach
SUMMARY:Sitzung des Ortsverbands Winterbach
DESCRIPTION;ALTREP="data:text/html,%0A%3Cp%3EDer%20Ortsverband%20der%20Gr
 %C3%BCnen%20in%20Winterbach%20trifft%20sich%20regelm%C3%A4%C3%9Fig%20im%2
 0B%C3%BCrgerhaus%20Kelter%20in%20Winterbach%20um%20aktuelle%20Themen%20wi
 e%20beispielsweise%20Vorbereitungen%20f%C3%BCr%20Wahlen%2C%20Organisation
 %20von%20Veranstaltungen%20etc.%20zu%20besprechen.%20Komm%20gerne%20vorbe
 i%2C%20wenn%20du%20Fragen%20hast%2C%20mitmachen%20willst%20oder%20einfach
 %20allgemein%20Interesse%20hast.%3C%2Fp%3E%0A":Der Ortsverband der Grüne
 n in Winterbach trifft sich regelmäßig im Bürgerhaus Kelter in Winterb
 ach um aktuelle Themen wie beispielsweise Vorbereitungen für Wahlen\, Or
 ganisation von Veranstaltungen etc. zu besprechen. Komm gerne vorbei\, we
 nn du Fragen hast\, mitmachen willst oder einfach allgemein Interesse has
 t.
CLASS:PUBLIC
DTSTART;TZID=Europe/Berlin:20240515T190000
DTEND;TZID=Europe/Berlin:20240515T210000
DTSTAMP:20260421T200905
END:VEVENT
END:VCALENDAR