BEGIN:VCALENDAR
VERSION:2.0
PRODID:gruene-winterbach.de
METHOD:PUBLISH
BEGIN:VTIMEZONE
TZID:Europe/Berlin
X-LIC-LOCATION:Europe/Berlin
BEGIN:DAYLIGHT
TZOFFSETFROM:+0100
TZOFFSETTO:+0200
TZNAME:CEST
DTSTART:19700329T020000
RRULE:FREQ=YEARLY;INTERVAL=1;BYDAY=-1SU;BYMONTH=3
END:DAYLIGHT
BEGIN:STANDARD
TZOFFSETFROM:+0200
TZOFFSETTO:+0100
TZNAME:CET
DTSTART:19701025T030000
RRULE:FREQ=YEARLY;INTERVAL=1;BYDAY=-1SU;BYMONTH=10
END:STANDARD
END:VTIMEZONE
BEGIN:VEVENT
UID:9d634f3ae0da7f788fa861ac11bec664@gruene-winterbach.de
URL;VALUE=URI:https://gruene-winterbach.de/termine/jahreshauptversammlung
 -des-ortsverbandes/
LOCATION:Bürgerhaus Kelter, Ritterstraße 3, Winterbach
SUMMARY:Jahreshauptversammlung des Ortsverbandes
DESCRIPTION;ALTREP="data:text/html,":
CLASS:PUBLIC
DTSTART;TZID=Europe/Berlin:20241009T190000
DTEND;TZID=Europe/Berlin:20241009T210000
DTSTAMP:20260421T100523
END:VEVENT
END:VCALENDAR