BEGIN:VCALENDAR
VERSION:2.0
PRODID:gruene-winterbach.de
METHOD:PUBLISH
BEGIN:VTIMEZONE
TZID:Europe/Berlin
X-LIC-LOCATION:Europe/Berlin
BEGIN:DAYLIGHT
TZOFFSETFROM:+0100
TZOFFSETTO:+0200
TZNAME:CEST
DTSTART:19700329T020000
RRULE:FREQ=YEARLY;INTERVAL=1;BYDAY=-1SU;BYMONTH=3
END:DAYLIGHT
BEGIN:STANDARD
TZOFFSETFROM:+0200
TZOFFSETTO:+0100
TZNAME:CET
DTSTART:19701025T030000
RRULE:FREQ=YEARLY;INTERVAL=1;BYDAY=-1SU;BYMONTH=10
END:STANDARD
END:VTIMEZONE
BEGIN:VEVENT
UID:ef456696d86b2f898d28888f63d91ff0@gruene-winterbach.de
URL;VALUE=URI:https://gruene-winterbach.de/termine/gemeinderats-vernetzun
 gstreffen/
LOCATION:Grünes Büro Waiblingen
SUMMARY:Gemeinderats-Vernetzungstreffen
DESCRIPTION;ALTREP="data:text/html,%3Cp%3EGr%C3%BCne%20und%20gr%C3%BCn-na
 he%20Gemeinder%C3%A4t%3Ainnen%20im%20Rems-Murr-Kreis%20treffen%20sich%20z
 u%20einem%20kollegialen%20Austausch.%20%3C%2Fp%3E":Grüne und grün-nahe 
 Gemeinderät:innen im Rems-Murr-Kreis treffen sich zu einem kollegialen A
 ustausch.
CLASS:PUBLIC
DTSTART;TZID=Europe/Berlin:20260522T170000
DTEND;TZID=Europe/Berlin:20260522T190000
DTSTAMP:20260420T211143
END:VEVENT
END:VCALENDAR